BEGIN:VCALENDAR
VERSION:2.0
PRODID:-//eventon.com NONSGML v1.0//EN
CALSCALE:GREGORIAN
METHOD:PUBLISH
BEGIN:VEVENT
UID:69e5f5ed80718
DTSTAMP:20260420T094621Z
DTSTART:20240308
DTEND:20240309
LOCATION:
SUMMARY:SOS LIVE SURGERY SYMPOSIUM
DESCRIPTION:SOS LIVE SURGERY SYMPOSIUM 3/8/2024 - 3/9/2024 Schloss Bensberg
  | Kadettenstraße\,  51429 Bergisch Gladbach\,  Germany boeld communicatio
 n GmbH Reitmorstraße 25 Munich \,  Bavaria  80538 PHONE (+49) 189046-0
 \nhttps://hapsi.eu/events/sos-live-surgery-symposium/
URL:https://hapsi.eu/events/sos-live-surgery-symposium/
END:VEVENT
END:VCALENDAR