BEGIN:VCALENDAR
VERSION:2.0
PRODID:-//eventon.com NONSGML v1.0//EN
CALSCALE:GREGORIAN
METHOD:PUBLISH
BEGIN:VEVENT
UID:69e5f77d1c7b4
DTSTAMP:20260420T095301Z
DTSTART:20240425
DTEND:20240426
LOCATION:
SUMMARY:INTERNATIONAL CONFERENCE ON NANOSCIENCE AND NANOTECHNOLOGY
DESCRIPTION:INTERNATIONAL CONFERENCE ON NANOSCIENCE AND NANOTECHNOLOGY 4/25
 /2024 - 4/26/2024 Dubai\,  United Arab Emirates Frigate Conferences London\
 ,  United Kingdom Dear Colleagues\,  Greetings from Nano Conference 2024!! 
 Frigate Conferences welcomes all the experts in the field of Nanoscience an
 d Nanotechnology to attend its upcoming “International Conference on Nano
 science & Nanotechnology” to be[..]\nhttps://hapsi.eu/events/internationa
 l-conference-on-nanoscience-and-nanotechnology/
URL:https://hapsi.eu/events/international-conference-on-nanoscience-and-nanotechnology/
END:VEVENT
END:VCALENDAR