BEGIN:VCALENDAR
VERSION:2.0
PRODID:-//eventon.com NONSGML v1.0//EN
CALSCALE:GREGORIAN
METHOD:PUBLISH
BEGIN:VEVENT
UID:69e5c2b9f0c23
DTSTAMP:20260420T060753Z
DTSTART:20250411
DTEND:20250412
LOCATION:
SUMMARY:WSPS ANNUAL CONFERENCE
DESCRIPTION:WSPS ANNUAL CONFERENCE 4/11/2025 - 4/11/2025 Brookfield Confere
 nce Center\,  Brookfield\,  WI\,  USA Wisconsin Society of Plastic Surgeons
  Suite B 563 Carter Court\,  Suite B Kimberly \,  WI  54136 Mark your c
 alendars for the 2025 WSPS Annual Conference! The event will take place on 
 April 11\,  2025 at the Brookfield Conference Center in Brookfield\, [..]\n
 https://hapsi.eu/events/wsps-annual-conference-2/
URL:https://hapsi.eu/events/wsps-annual-conference-2/
END:VEVENT
END:VCALENDAR