BEGIN:VCALENDAR
VERSION:2.0
PRODID:-//eventon.com NONSGML v1.0//EN
CALSCALE:GREGORIAN
METHOD:PUBLISH
BEGIN:VEVENT
UID:69e8fe8dee7d3
DTSTAMP:20260422T165957Z
DTSTART:20251009
DTEND:20251010
LOCATION:
SUMMARY:PLASTIC SURGERY THE MEETING 2025
DESCRIPTION:PLASTIC SURGERY THE MEETING 2025 10/9/2025 - 10/12/2025 New Orl
 eans\,  LA American Society of Plastic Surgeons 444 E. Algonquin Road Arlin
 gton Heights \,  IL  60005 Plastic Surgery The Meeting brings together 
 the best and the brightest surgeons in the specialty\,  poised to share the
 ir expertise with colleagues who arrive from countries around the[..]\nhttp
 s://hapsi.eu/events/plastic-surgery-the-meeting-2025/
URL:https://hapsi.eu/events/plastic-surgery-the-meeting-2025/
END:VEVENT
END:VCALENDAR