BEGIN:VCALENDAR
VERSION:2.0
PRODID:-//eventon.com NONSGML v1.0//EN
CALSCALE:GREGORIAN
METHOD:PUBLISH
BEGIN:VEVENT
UID:69e7ae9fe15c0
DTSTAMP:20260421T170639Z
DTSTART:20261015
DTEND:20261016
LOCATION:
SUMMARY:PLASTIC SURGERY THE MEETING 2026
DESCRIPTION:PLASTIC SURGERY THE MEETING 2026 10/15/2026 - 10/18/2026 George
  R. Brown Convention Center\,  Houston\,  Texas American Society of Plastic
  Surgeons 444 E. Algonquin Road Arlington Heights \,  IL  60005 Plastic
  Surgery The Meeting brings together the best and the brightest surgeons in
  the specialty\,  poised to share their expertise with colleagues who arriv
 e[..]\nhttps://hapsi.eu/events/plastic-surgery-the-meeting-2026/
URL:https://hapsi.eu/events/plastic-surgery-the-meeting-2026/
END:VEVENT
END:VCALENDAR