BEGIN:VCALENDAR
VERSION:2.0
PRODID:-//eventon.com NONSGML v1.0//EN
CALSCALE:GREGORIAN
METHOD:PUBLISH
BEGIN:VEVENT
UID:69e5f627740ee
DTSTAMP:20260420T094719Z
DTSTART:20270429
DTEND:20270430
LOCATION:
SUMMARY:THE AESTHETIC MEETING 2027
DESCRIPTION:THE AESTHETIC MEETING 2027 4/29/2027 - 5/2/2027 Seattle Convent
 ion Center\,  Seattle\,  Washington The Aesthetic Society (American Society
  for Aesthetic Plastic Surgery) 11262 Monarch St. Garden Grove \,  CA  
 92841 CONTACT NAME Shelly Faucett PHONE 562-799-2356 EMAIL shelly@theaesthe
 ticsociety.org\nhttps://hapsi.eu/events/the-aesthetic-meeting-2027/
URL:https://hapsi.eu/events/the-aesthetic-meeting-2027/
END:VEVENT
END:VCALENDAR